BEGIN:VCALENDAR
VERSION:2.0
PRODID:-//ExpressionEngine Easy iCalendar plugin//NONSGML v2.0.0//EN
X-WR-TIMEZONE:America/Chicago
X-WR-CALNAME:Upcoming Auctions
BEGIN:VEVENT
UID:160909
DTSTAMP:20260421T000000
DTSTART:20260421T000000
DTEND:20260504T190000
SUMMARY:CWE Hospital Closing Surplus - Bidding Now!
LOCATION:4930 Lindell Blvd\, St. Louis\, MO 63108\, US
DESCRIPTION:GRS Auctions and Liquidations Online Auctions present an exc
 eptional opportunity: the complete liquidation of a former R
 ehabilitation Hospital\, This St. Louis online auction featur
 es hundreds of lots of professional-grade medical equipment 
 — from Arjo and Hill-Rom hospital beds\, carts\, refrigerati
 on\, overbed tables and a full fleet of wheelchairs and pati
 ent lifts. Whether you're a hospital administrator\, a health
 care facility manager\, a nonprofit organization\, a home care
  provider\, or an individual in need of medical equipment\, th
 is is one of the most comprehensive medical liquidation auct
 ions GRS has offered. Begins Closing:   May 4 @ 7:00pm C
 DT (End): Preview Dates:   Apr. 27 @ 10:00AM - 2:00PM CD
 T (End): Pickup Dates:   May. 6 @ 9:00AM - 4:00PM CDT (E
 nd): Address: 4930 Lindell Blvd\, St. Louis\, MO 63108\, US (
 map)
URL:https://www.grsauctions.com/auctions/detail/bw160909
SEQUENCE:1
END:VEVENT
END:VCALENDAR