BEGIN:VCALENDAR
VERSION:2.0
PRODID:-//ExpressionEngine Easy iCalendar plugin//NONSGML v2.0.0//EN
X-WR-TIMEZONE:America/Chicago
X-WR-CALNAME:Upcoming Auctions
BEGIN:VEVENT
UID:160575
DTSTAMP:20260420T163000
DTSTART:20260420T163000
DTEND:20260506T190000
SUMMARY:HVAC Sheet Metal Working Shop - Bidding Now!
LOCATION:1515 Academy Avenue\, St. Louis\, MO 63115\, US
DESCRIPTION:GRS Auctions and Liquidations presents a serious working sho
 p opportunity: the complete liquidation of a professional HV
 AC Sheet Metal Fabrication Shop\, now live at www.GRSBidNow.c
 om. This St. Louis online auction is loaded with industrial 
 sheet metal & duct work machinery including lockformers\, hyd
 raulic press brakes\, power slip rollers\, squaring shears\, tu
 rret punch presses\, flangers\, cheek benders\, a Vicon plasma/
 liner cutting system\, and a custom gantry crane\, just to nam
 e the headliners. If  you're an HVAC contractor\, a sheet me
 tal fabricator\, a body shop owner\, or a machine shop operato
 r looking to expand your capacity\, this is the kind of liqui
 dation worth showing up for. Begins Closing:   May 6 @ 7:
 00pm CDT (End): Preview Dates:   May. 4 @ 10:00AM - 2:00
 PM CDT (End): Pickup Dates:   Monday May. 11 & Tuesday Ma
 y 12 @ 9:00AM - 4:00AM CDT : Location:   1515 Academy Av
 enue\, St. Louis\, MO 63115\, US (map)
URL:https://www.grsauctions.com/auctions/detail/bw160575
SEQUENCE:1
END:VEVENT
END:VCALENDAR